BEGIN:VCALENDAR
VERSION:2.0
PRODID:-//werrasuhltalactive - ECPv5.2.1//NONSGML v1.0//EN
CALSCALE:GREGORIAN
METHOD:PUBLISH
X-WR-CALNAME:werrasuhltalactive
X-ORIGINAL-URL:https://www.werrasuhltalactive.de
X-WR-CALDESC:Veranstaltungen für werrasuhltalactive
BEGIN:VTIMEZONE
TZID:Europe/Paris
BEGIN:DAYLIGHT
TZOFFSETFROM:+0100
TZOFFSETTO:+0200
TZNAME:CEST
DTSTART:20200329T010000
END:DAYLIGHT
BEGIN:STANDARD
TZOFFSETFROM:+0200
TZOFFSETTO:+0100
TZNAME:CET
DTSTART:20201025T010000
END:STANDARD
END:VTIMEZONE
BEGIN:VEVENT
DTSTART;TZID=Europe/Paris:20200627T103000
DTEND;TZID=Europe/Paris:20200627T170000
DTSTAMP:20260423T094418
CREATED:20200213T143908Z
LAST-MODIFIED:20200213T143908Z
UID:1244-1593253800-1593277200@www.werrasuhltalactive.de
SUMMARY:Tag der Wartburgregion am 27. Juni 2020
DESCRIPTION:Am 27. Juni steht die Region Werra-Suhl-Tal und Gerstungen im Fokus der Veranstaltung „Tag der Wartburgregion“ in Bad Salzungen. Seid auch ihr dabei und stellt euch vor… \nFolgend ein Auszug (Quelle) von der Seite „Wartburgkreis.de“ \n„Am 27. Juni 2020 findet in der Zeit von 10.30 – 17 Uhr auf dem Gelände des Landratsamtes in Bad Salzungen der „Tag der Wartburgregion“ statt. Unter dem Motto „Familie – Gesundheit – Bewegung“ bekommen eine Vielzahl von Akteuren die Möglichkeit\, ihre Institution\, ihre Produkte oder ihr Talent vorzustellen. Im Fokus sollen 2020 die Regionen Werra-Suhl-Tal und Gerstungen stehen. „ \n„Wer Interesse hat\, die Regionen mit einem Stand vorzustellen\, mit seinen Produkten die Veranstaltung zu unterstützen oder das Bühnenprogramm zu bereichern\, kann sich bis spätestens 24. Februar formlos per Mail oder Post bewerben. “ \nWeiteres unter: \nhttps://www.wartburgkreis.de/leben-im-wartburgkreis/news-detailseite/jetzt-anmelden-tag-der-wartburgregion-am-27-juni-2020
URL:https://www.werrasuhltalactive.de/event/tag-der-wartburgregion-am-27-juni-2020/
CATEGORIES:Veranstaltung,Verein
END:VEVENT
END:VCALENDAR