BEGIN:VCALENDAR
VERSION:2.0
PRODID:-//werrasuhltalactive - ECPv5.2.1//NONSGML v1.0//EN
CALSCALE:GREGORIAN
METHOD:PUBLISH
X-WR-CALNAME:werrasuhltalactive
X-ORIGINAL-URL:https://www.werrasuhltalactive.de
X-WR-CALDESC:Veranstaltungen für werrasuhltalactive
BEGIN:VTIMEZONE
TZID:Europe/Paris
BEGIN:DAYLIGHT
TZOFFSETFROM:+0100
TZOFFSETTO:+0200
TZNAME:CEST
DTSTART:20210328T010000
END:DAYLIGHT
BEGIN:STANDARD
TZOFFSETFROM:+0200
TZOFFSETTO:+0100
TZNAME:CET
DTSTART:20211031T010000
END:STANDARD
END:VTIMEZONE
BEGIN:VEVENT
DTSTART;TZID=Europe/Paris:20210911T100000
DTEND;TZID=Europe/Paris:20210911T160000
DTSTAMP:20260423T075736
CREATED:20210908T172531Z
LAST-MODIFIED:20210910T064400Z
UID:1375-1631354400-1631376000@www.werrasuhltalactive.de
SUMMARY:Waldtag am Samstag\, dem 11. September 2021 am Kamphaus
DESCRIPTION:Die Gruppe für Natur- und Umweltschutz\nBerka/Werra Ortsgruppe Gospenroda informiert: \nHerzliche Einladung zum Waldtag am Samstag\, dem 11. September 2021 am Kamphaus. \nLink zu „Wo bin ich?“ – Kamphaus \nnaturkundliche Wanderungen:\n10.00 Uhr\nab Wünschensuhl\, Treff Heimatvereinshaus\noder\n10.00 Uhr\nab Gospenroda\, Treff Ortsausgang \nAm Nachmittag:\n• Erläuterungen zum Waldumbau\n• Informationsstand über Imkerei\n• Vertrag über das Projekt Wiederansiedlung des Steinkäuzchens in Werra-Suhl-Tal\nFür Essen\, Getränke\, Kaffee und Kuchen wird gesorgt.
URL:https://www.werrasuhltalactive.de/event/waldtag-am-samstag-dem-11-september-2021-am-kamphaus/
LOCATION:Kamphaus
CATEGORIES:Feste,Veranstaltung,Verein
ATTACH;FMTTYPE=image/jpeg:https://www.werrasuhltalactive.de/wp-content/uploads/2021/09/IMG_20210903_124648-scaled.jpg
END:VEVENT
END:VCALENDAR